BEGIN:VCALENDAR
VERSION:2.0
PRODID:-//Gminne Centrum Kultury, Sportu i Turystyki w Radkowie - ECPv6.15.20//NONSGML v1.0//EN
CALSCALE:GREGORIAN
METHOD:PUBLISH
X-ORIGINAL-URL:https://www.gorystolowe.info
X-WR-CALDESC:Wydarzenia dla Gminne Centrum Kultury, Sportu i Turystyki w Radkowie
REFRESH-INTERVAL;VALUE=DURATION:PT1H
X-Robots-Tag:noindex
X-PUBLISHED-TTL:PT1H
BEGIN:VTIMEZONE
TZID:Europe/Warsaw
BEGIN:DAYLIGHT
TZOFFSETFROM:+0100
TZOFFSETTO:+0200
TZNAME:CEST
DTSTART:20160327T010000
END:DAYLIGHT
BEGIN:STANDARD
TZOFFSETFROM:+0200
TZOFFSETTO:+0100
TZNAME:CET
DTSTART:20161030T010000
END:STANDARD
BEGIN:DAYLIGHT
TZOFFSETFROM:+0100
TZOFFSETTO:+0200
TZNAME:CEST
DTSTART:20170326T010000
END:DAYLIGHT
BEGIN:STANDARD
TZOFFSETFROM:+0200
TZOFFSETTO:+0100
TZNAME:CET
DTSTART:20171029T010000
END:STANDARD
BEGIN:DAYLIGHT
TZOFFSETFROM:+0100
TZOFFSETTO:+0200
TZNAME:CEST
DTSTART:20180325T010000
END:DAYLIGHT
BEGIN:STANDARD
TZOFFSETFROM:+0200
TZOFFSETTO:+0100
TZNAME:CET
DTSTART:20181028T010000
END:STANDARD
END:VTIMEZONE
BEGIN:VEVENT
DTSTART;TZID=Europe/Warsaw:20170506T150000
DTEND;TZID=Europe/Warsaw:20170506T170000
DTSTAMP:20260424T182728
CREATED:20170110T083724Z
LAST-MODIFIED:20170110T083724Z
UID:558-1494082800-1494090000@www.gorystolowe.info
SUMMARY:Majówka w plenerze
DESCRIPTION:
URL:https://www.gorystolowe.info/kalendarz/majowka-w-plenerze/
LOCATION:Orlik w Tłumaczowie\, 47a\, Tłumaczów\, Dolnośląskie\, 57-408\, Polska
CATEGORIES:Impreza Sołecka
END:VEVENT
BEGIN:VEVENT
DTSTART;VALUE=DATE:20170501
DTEND;VALUE=DATE:20170504
DTSTAMP:20260424T182728
CREATED:20170207T111607Z
LAST-MODIFIED:20170207T111607Z
UID:799-1493596800-1493855999@www.gorystolowe.info
SUMMARY:Majówka w Wambierzycach
DESCRIPTION:
URL:https://www.gorystolowe.info/kalendarz/majowka-w-wambierzycach/
CATEGORIES:Impreza Sołecka
END:VEVENT
END:VCALENDAR