BEGIN:VCALENDAR
VERSION:2.0
PRODID:-//Gminne Centrum Kultury, Sportu i Turystyki w Radkowie - ECPv6.15.20//NONSGML v1.0//EN
CALSCALE:GREGORIAN
METHOD:PUBLISH
X-ORIGINAL-URL:https://www.gorystolowe.info
X-WR-CALDESC:Wydarzenia dla Gminne Centrum Kultury, Sportu i Turystyki w Radkowie
REFRESH-INTERVAL;VALUE=DURATION:PT1H
X-Robots-Tag:noindex
X-PUBLISHED-TTL:PT1H
BEGIN:VTIMEZONE
TZID:Europe/Warsaw
BEGIN:DAYLIGHT
TZOFFSETFROM:+0100
TZOFFSETTO:+0200
TZNAME:CEST
DTSTART:20160327T010000
END:DAYLIGHT
BEGIN:STANDARD
TZOFFSETFROM:+0200
TZOFFSETTO:+0100
TZNAME:CET
DTSTART:20161030T010000
END:STANDARD
BEGIN:DAYLIGHT
TZOFFSETFROM:+0100
TZOFFSETTO:+0200
TZNAME:CEST
DTSTART:20170326T010000
END:DAYLIGHT
BEGIN:STANDARD
TZOFFSETFROM:+0200
TZOFFSETTO:+0100
TZNAME:CET
DTSTART:20171029T010000
END:STANDARD
BEGIN:DAYLIGHT
TZOFFSETFROM:+0100
TZOFFSETTO:+0200
TZNAME:CEST
DTSTART:20180325T010000
END:DAYLIGHT
BEGIN:STANDARD
TZOFFSETFROM:+0200
TZOFFSETTO:+0100
TZNAME:CET
DTSTART:20181028T010000
END:STANDARD
END:VTIMEZONE
BEGIN:VEVENT
DTSTART;TZID=Europe/Warsaw:20170505T170000
DTEND;TZID=Europe/Warsaw:20170505T180000
DTSTAMP:20260424T151105
CREATED:20170406T113706Z
LAST-MODIFIED:20170406T113706Z
UID:987-1494003600-1494007200@www.gorystolowe.info
SUMMARY:Mecz UKS AP NOWA RUDA II vs HEJSZOWINA RADKÓW
DESCRIPTION:
URL:https://www.gorystolowe.info/kalendarz/mecz-uks-ap-nowa-ruda-ii-vs-hejszowina-radkow/
CATEGORIES:Impreza Gminna
END:VEVENT
END:VCALENDAR