BEGIN:VCALENDAR
VERSION:2.0
PRODID:-//Gminne Centrum Kultury, Sportu i Turystyki w Radkowie - ECPv6.15.20//NONSGML v1.0//EN
CALSCALE:GREGORIAN
METHOD:PUBLISH
X-ORIGINAL-URL:https://www.gorystolowe.info
X-WR-CALDESC:Wydarzenia dla Gminne Centrum Kultury, Sportu i Turystyki w Radkowie
REFRESH-INTERVAL;VALUE=DURATION:PT1H
X-Robots-Tag:noindex
X-PUBLISHED-TTL:PT1H
BEGIN:VTIMEZONE
TZID:Europe/Warsaw
BEGIN:DAYLIGHT
TZOFFSETFROM:+0100
TZOFFSETTO:+0200
TZNAME:CEST
DTSTART:20160327T010000
END:DAYLIGHT
BEGIN:STANDARD
TZOFFSETFROM:+0200
TZOFFSETTO:+0100
TZNAME:CET
DTSTART:20161030T010000
END:STANDARD
BEGIN:DAYLIGHT
TZOFFSETFROM:+0100
TZOFFSETTO:+0200
TZNAME:CEST
DTSTART:20170326T010000
END:DAYLIGHT
BEGIN:STANDARD
TZOFFSETFROM:+0200
TZOFFSETTO:+0100
TZNAME:CET
DTSTART:20171029T010000
END:STANDARD
BEGIN:DAYLIGHT
TZOFFSETFROM:+0100
TZOFFSETTO:+0200
TZNAME:CEST
DTSTART:20180325T010000
END:DAYLIGHT
BEGIN:STANDARD
TZOFFSETFROM:+0200
TZOFFSETTO:+0100
TZNAME:CET
DTSTART:20181028T010000
END:STANDARD
BEGIN:DAYLIGHT
TZOFFSETFROM:+0100
TZOFFSETTO:+0200
TZNAME:CEST
DTSTART:20190331T010000
END:DAYLIGHT
BEGIN:STANDARD
TZOFFSETFROM:+0200
TZOFFSETTO:+0100
TZNAME:CET
DTSTART:20191027T010000
END:STANDARD
BEGIN:DAYLIGHT
TZOFFSETFROM:+0100
TZOFFSETTO:+0200
TZNAME:CEST
DTSTART:20200329T010000
END:DAYLIGHT
BEGIN:STANDARD
TZOFFSETFROM:+0200
TZOFFSETTO:+0100
TZNAME:CET
DTSTART:20201025T010000
END:STANDARD
BEGIN:DAYLIGHT
TZOFFSETFROM:+0100
TZOFFSETTO:+0200
TZNAME:CEST
DTSTART:20210328T010000
END:DAYLIGHT
BEGIN:STANDARD
TZOFFSETFROM:+0200
TZOFFSETTO:+0100
TZNAME:CET
DTSTART:20211031T010000
END:STANDARD
END:VTIMEZONE
BEGIN:VEVENT
DTSTART;TZID=Europe/Warsaw:20200711T150000
DTEND;TZID=Europe/Warsaw:20200711T170000
DTSTAMP:20260424T152504
CREATED:20170110T081547Z
LAST-MODIFIED:20200709T122143Z
UID:542-1594479600-1594486800@www.gorystolowe.info
SUMMARY:Otwarcie sezonu rowerowego w Ścinawce Średniej
DESCRIPTION:
URL:https://www.gorystolowe.info/kalendarz/otwarcie-sezonu-rowerowego-oraz-coroczne-pokazy-ochotniczych-strazy-pozarnych-w-scinawce-sredniej-2/
LOCATION:Kompleks Sportowy w Ścinawce Średniej\, ul. Adama Mickiewicza 1\, Ścinawka Średnia\, Dolnośląskie\, 57-410
CATEGORIES:Impreza Gminna
END:VEVENT
BEGIN:VEVENT
DTSTART;TZID=Europe/Warsaw:20190526T150000
DTEND;TZID=Europe/Warsaw:20190526T180000
DTSTAMP:20260424T152504
CREATED:20170103T105524Z
LAST-MODIFIED:20190516T083438Z
UID:498-1558882800-1558893600@www.gorystolowe.info
SUMMARY:Otwarcie sezonu rowerowego w Ścinawce Średniej
DESCRIPTION:
URL:https://www.gorystolowe.info/kalendarz/otwarcie-sezonu-rowerowego-oraz-coroczne-pokazy-ochotniczych-strazy-pozarnych-w-scinawce-sredniej/
LOCATION:Kompleks Sportowy w Ścinawce Średniej\, ul. Adama Mickiewicza 1\, Ścinawka Średnia\, Dolnośląskie\, 57-410
CATEGORIES:Impreza Gminna
END:VEVENT
BEGIN:VEVENT
DTSTART;VALUE=DATE:20180601
DTEND;VALUE=DATE:20180602
DTSTAMP:20260424T152504
CREATED:20161230T111915Z
LAST-MODIFIED:20180122T084739Z
UID:309-1527811200-1527897599@www.gorystolowe.info
SUMMARY:Gminny DZIEŃ DZIECKA
DESCRIPTION:
URL:https://www.gorystolowe.info/kalendarz/dzien-dziecka-2/
LOCATION:Kompleks Sportowy w Ścinawce Średniej\, ul. Adama Mickiewicza 1\, Ścinawka Średnia\, Dolnośląskie\, 57-410
CATEGORIES:Impreza Gminna
END:VEVENT
BEGIN:VEVENT
DTSTART;TZID=Europe/Warsaw:20180318T120000
DTEND;TZID=Europe/Warsaw:20180318T170000
DTSTAMP:20260424T152504
CREATED:20161221T075126Z
LAST-MODIFIED:20180122T082321Z
UID:170-1521374400-1521392400@www.gorystolowe.info
SUMMARY:Polsk-Czeski Jarmark Wielkanocny
DESCRIPTION:
URL:https://www.gorystolowe.info/kalendarz/jarmark-wielkanocny-gminy-radkow/
LOCATION:Hala Sportowa w Ścinawce Średniej\, ul. Sikorskiego 34\, Ścinawka Średnia\, Dolnośląskie\, 57-410\, Polska
CATEGORIES:Impreza Gminna
ATTACH;FMTTYPE=image/jpeg:https://www.gorystolowe.info/wp-content/uploads/2016/12/43.jpg
ORGANIZER;CN="GCKSiT w Radkowie":MAILTO:sekretariat@gorystolowe.info
END:VEVENT
BEGIN:VEVENT
DTSTART;TZID=Europe/Warsaw:20180223T170000
DTEND;TZID=Europe/Warsaw:20180223T190000
DTSTAMP:20260424T152504
CREATED:20170213T135155Z
LAST-MODIFIED:20180206T103218Z
UID:851-1519405200-1519412400@www.gorystolowe.info
SUMMARY:IX Prezentacje Gminnych Zespołów Kultywujących Tradycje Muzyczne
DESCRIPTION:
URL:https://www.gorystolowe.info/kalendarz/viii-prezentacje-gminnych-zespolow-kultywujacych-tradycje-muzyczne/
LOCATION:Sala Widowiskowa w Ścinawce Średniej\, Mickiewicza\, Ścinawka Średnia\, Polska
CATEGORIES:Impreza Gminna
END:VEVENT
BEGIN:VEVENT
DTSTART;TZID=Europe/Warsaw:20171217T160000
DTEND;TZID=Europe/Warsaw:20171217T170000
DTSTAMP:20260424T152504
CREATED:20170103T083237Z
LAST-MODIFIED:20170103T083237Z
UID:495-1513526400-1513530000@www.gorystolowe.info
SUMMARY:Obudzić Święta” – koncert bożonarodzeniowy
DESCRIPTION:
URL:https://www.gorystolowe.info/kalendarz/obudzic-swieta-koncert-bozonarodzeniowy/
LOCATION:Sala WCKI i BP\,  25 A\, Ścinawka Dolna\, Dolnośląskie\, 57-410
CATEGORIES:Impreza Sołecka
END:VEVENT
BEGIN:VEVENT
DTSTART;TZID=Europe/Warsaw:20171210T120000
DTEND;TZID=Europe/Warsaw:20171210T170000
DTSTAMP:20260424T152504
CREATED:20161221T081636Z
LAST-MODIFIED:20170131T110640Z
UID:187-1512907200-1512925200@www.gorystolowe.info
SUMMARY:VII Jarmark Bożonarodzeniowy Gminy Radków w Ścinawce Średniej
DESCRIPTION:
URL:https://www.gorystolowe.info/kalendarz/vii-jarmark-bozonarodzeniowy-gminy-radkow-w-scinawce-sredniej/
LOCATION:Hala Sportowa w Ścinawce Średniej\, ul. Sikorskiego 34\, Ścinawka Średnia\, Dolnośląskie\, 57-410\, Polska
CATEGORIES:Impreza Gminna
ATTACH;FMTTYPE=image/jpeg:https://www.gorystolowe.info/wp-content/uploads/2016/12/1355743083674_16_12713_jarmark2012.jpg
END:VEVENT
BEGIN:VEVENT
DTSTART;TZID=Europe/Warsaw:20171206T100000
DTEND;TZID=Europe/Warsaw:20171206T120000
DTSTAMP:20260424T152504
CREATED:20161230T115737Z
LAST-MODIFIED:20170102T073048Z
UID:357-1512554400-1512561600@www.gorystolowe.info
SUMMARY:ZABAWA MIKOŁAJKOWA
DESCRIPTION:
URL:https://www.gorystolowe.info/kalendarz/zabawa-mikolajkowa-2/
LOCATION:Żłobek w Ścinawce Średniej\, ul. Sikorskiego 34\, Ścinawka Średnia\, Dolnośląskie\, 57-410\, Polska
CATEGORIES:Impreza Szkolna
END:VEVENT
BEGIN:VEVENT
DTSTART;TZID=Europe/Warsaw:20171130T100000
DTEND;TZID=Europe/Warsaw:20171130T110000
DTSTAMP:20260424T152504
CREATED:20161230T115517Z
LAST-MODIFIED:20170102T073100Z
UID:353-1512036000-1512039600@www.gorystolowe.info
SUMMARY:ZABAWA ANDRZEJKOWA
DESCRIPTION:
URL:https://www.gorystolowe.info/kalendarz/zabawa-andrzejkowa-2/
LOCATION:Żłobek w Ścinawce Średniej\, ul. Sikorskiego 34\, Ścinawka Średnia\, Dolnośląskie\, 57-410\, Polska
CATEGORIES:Impreza Szkolna
END:VEVENT
BEGIN:VEVENT
DTSTART;VALUE=DATE:20171124
DTEND;VALUE=DATE:20171125
DTSTAMP:20260424T152504
CREATED:20161230T114737Z
LAST-MODIFIED:20170102T073111Z
UID:345-1511481600-1511567999@www.gorystolowe.info
SUMMARY:DZIEŃ PLUSZOWEGO MISIA
DESCRIPTION:
URL:https://www.gorystolowe.info/kalendarz/dzien-pluszowego-misia-2/
LOCATION:Żłobek w Ścinawce Średniej\, ul. Sikorskiego 34\, Ścinawka Średnia\, Dolnośląskie\, 57-410\, Polska
CATEGORIES:Impreza Szkolna
END:VEVENT
BEGIN:VEVENT
DTSTART;VALUE=DATE:20171110
DTEND;VALUE=DATE:20171111
DTSTAMP:20260424T152504
CREATED:20161230T115008Z
LAST-MODIFIED:20170102T073131Z
UID:349-1510272000-1510358399@www.gorystolowe.info
SUMMARY:DZIEŃ NIEPODLEGŁOŚCI
DESCRIPTION:
URL:https://www.gorystolowe.info/kalendarz/dzien-niepodleglosci-2/
LOCATION:Żłobek w Ścinawce Średniej\, ul. Sikorskiego 34\, Ścinawka Średnia\, Dolnośląskie\, 57-410\, Polska
CATEGORIES:Impreza Szkolna
END:VEVENT
BEGIN:VEVENT
DTSTART;VALUE=DATE:20171011
DTEND;VALUE=DATE:20171012
DTSTAMP:20260424T152504
CREATED:20161230T114145Z
LAST-MODIFIED:20170102T073201Z
UID:337-1507680000-1507766399@www.gorystolowe.info
SUMMARY:DZIEŃ DZIEWCZYNEK
DESCRIPTION:
URL:https://www.gorystolowe.info/kalendarz/dzien-dziewczynek-2/
LOCATION:Żłobek w Ścinawce Średniej\, ul. Sikorskiego 34\, Ścinawka Średnia\, Dolnośląskie\, 57-410\, Polska
CATEGORIES:Impreza Szkolna
END:VEVENT
BEGIN:VEVENT
DTSTART;TZID=Europe/Warsaw:20171009T100000
DTEND;TZID=Europe/Warsaw:20171009T110000
DTSTAMP:20260424T152504
CREATED:20161230T113918Z
LAST-MODIFIED:20170102T073215Z
UID:332-1507543200-1507546800@www.gorystolowe.info
SUMMARY:DZIEŃ ZNACZKA POCZTOWEGO
DESCRIPTION:
URL:https://www.gorystolowe.info/kalendarz/dzien-znaczka-pocztowego-2/
LOCATION:Żłobek w Ścinawce Średniej\, ul. Sikorskiego 34\, Ścinawka Średnia\, Dolnośląskie\, 57-410\, Polska
CATEGORIES:Impreza Szkolna
END:VEVENT
BEGIN:VEVENT
DTSTART;VALUE=DATE:20170929
DTEND;VALUE=DATE:20170930
DTSTAMP:20260424T152504
CREATED:20161230T113711Z
LAST-MODIFIED:20170102T073230Z
UID:328-1506643200-1506729599@www.gorystolowe.info
SUMMARY:DZIEŃ CHŁOPCA
DESCRIPTION:
URL:https://www.gorystolowe.info/kalendarz/dzien-chlopca-2/
LOCATION:Żłobek w Ścinawce Średniej\, ul. Sikorskiego 34\, Ścinawka Średnia\, Dolnośląskie\, 57-410\, Polska
CATEGORIES:Impreza Szkolna
END:VEVENT
BEGIN:VEVENT
DTSTART;VALUE=DATE:20170912
DTEND;VALUE=DATE:20170913
DTSTAMP:20260424T152504
CREATED:20161230T113445Z
LAST-MODIFIED:20170102T073247Z
UID:324-1505174400-1505260799@www.gorystolowe.info
SUMMARY:DZIEŃ ZDROWIA JAMY USTNEJ
DESCRIPTION:
URL:https://www.gorystolowe.info/kalendarz/dzien-zdrowia-jamy-ustnej-2/
LOCATION:Żłobek w Ścinawce Średniej\, ul. Sikorskiego 34\, Ścinawka Średnia\, Dolnośląskie\, 57-410\, Polska
CATEGORIES:Impreza Szkolna
END:VEVENT
BEGIN:VEVENT
DTSTART;TZID=Europe/Warsaw:20170909T160000
DTEND;TZID=Europe/Warsaw:20170909T180000
DTSTAMP:20260424T152504
CREATED:20170103T083117Z
LAST-MODIFIED:20170103T083117Z
UID:493-1504972800-1504980000@www.gorystolowe.info
SUMMARY:Wiejskie święto plonów
DESCRIPTION:
URL:https://www.gorystolowe.info/kalendarz/wiejskie-swieto-plonow/
LOCATION:Boisko Sportowe w Ścinawce Dolnej\, 21A\, Ścinawka Dolna\, Dolnośląskie\, 57-410\, Polska
CATEGORIES:Impreza Sołecka
END:VEVENT
BEGIN:VEVENT
DTSTART;TZID=Europe/Warsaw:20170729T160000
DTEND;TZID=Europe/Warsaw:20170729T170000
DTSTAMP:20260424T152504
CREATED:20170103T082747Z
LAST-MODIFIED:20170103T082747Z
UID:490-1501344000-1501347600@www.gorystolowe.info
SUMMARY:V Festyn Jakubowy
DESCRIPTION:
URL:https://www.gorystolowe.info/kalendarz/v-festyn-jakubowy/
LOCATION:Boisko Sportowe w Ścinawce Dolnej\, 21A\, Ścinawka Dolna\, Dolnośląskie\, 57-410\, Polska
CATEGORIES:Impreza Sołecka
END:VEVENT
BEGIN:VEVENT
DTSTART;TZID=Europe/Warsaw:20170625T150000
DTEND;TZID=Europe/Warsaw:20170625T170000
DTSTAMP:20260424T152504
CREATED:20170103T082057Z
LAST-MODIFIED:20170103T082057Z
UID:488-1498402800-1498410000@www.gorystolowe.info
SUMMARY:Witamy wakacje – festyn dla dzieci Boisko sportowe w Ścinawce Dolnej
DESCRIPTION:
URL:https://www.gorystolowe.info/kalendarz/witamy-wakacje-festyn-dla-dzieci-boisko-sportowe-w-scinawce-dolnej/
LOCATION:Boisko Sportowe w Ścinawce Dolnej\, 21A\, Ścinawka Dolna\, Dolnośląskie\, 57-410\, Polska
CATEGORIES:Impreza Sołecka
END:VEVENT
BEGIN:VEVENT
DTSTART;TZID=Europe/Warsaw:20170623T160000
DTEND;TZID=Europe/Warsaw:20170623T170000
DTSTAMP:20260424T152504
CREATED:20161230T112311Z
LAST-MODIFIED:20170102T073425Z
UID:313-1498233600-1498237200@www.gorystolowe.info
SUMMARY:DZIEŃ TATY
DESCRIPTION:
URL:https://www.gorystolowe.info/kalendarz/dzien-taty-2/
LOCATION:Żłobek w Ścinawce Średniej\, ul. Sikorskiego 34\, Ścinawka Średnia\, Dolnośląskie\, 57-410\, Polska
CATEGORIES:Impreza Szkolna
END:VEVENT
BEGIN:VEVENT
DTSTART;TZID=Europe/Warsaw:20170610T100000
DTEND;TZID=Europe/Warsaw:20170610T120000
DTSTAMP:20260424T152504
CREATED:20170103T081556Z
LAST-MODIFIED:20170103T103931Z
UID:484-1497088800-1497096000@www.gorystolowe.info
SUMMARY:8 Festyn dla rodzin zastępczych\, zawodowych i rodzinnych domów dziecka „Bawimy się razem”
DESCRIPTION:
URL:https://www.gorystolowe.info/kalendarz/8-festyn-dla-rodzin-zastepczych-zawodowych-i-rodzinnych-domow-dziecka-bawimy-sie-razem/
LOCATION:Boisko Sportowe w Ścinawce Dolnej\, 21A\, Ścinawka Dolna\, Dolnośląskie\, 57-410\, Polska
CATEGORIES:Impreza Sołecka
END:VEVENT
BEGIN:VEVENT
DTSTART;TZID=Europe/Warsaw:20170525T160000
DTEND;TZID=Europe/Warsaw:20170525T170000
DTSTAMP:20260424T152504
CREATED:20161230T102519Z
LAST-MODIFIED:20170102T073512Z
UID:303-1495728000-1495731600@www.gorystolowe.info
SUMMARY:DZIEŃ MAMY
DESCRIPTION:
URL:https://www.gorystolowe.info/kalendarz/dzien-mamy/
LOCATION:Żłobek w Ścinawce Średniej\, ul. Sikorskiego 34\, Ścinawka Średnia\, Dolnośląskie\, 57-410\, Polska
CATEGORIES:Impreza Szkolna
END:VEVENT
BEGIN:VEVENT
DTSTART;VALUE=DATE:20170511
DTEND;VALUE=DATE:20170512
DTSTAMP:20260424T152504
CREATED:20161230T102412Z
LAST-MODIFIED:20170102T073518Z
UID:301-1494460800-1494547199@www.gorystolowe.info
SUMMARY:DZIEŃ BIBLIOTEKARZA
DESCRIPTION:
URL:https://www.gorystolowe.info/kalendarz/dzien-bibliotekarza-2/
LOCATION:Żłobek w Ścinawce Średniej\, ul. Sikorskiego 34\, Ścinawka Średnia\, Dolnośląskie\, 57-410\, Polska
CATEGORIES:Impreza Szkolna
END:VEVENT
BEGIN:VEVENT
DTSTART;VALUE=DATE:20170506
DTEND;VALUE=DATE:20170507
DTSTAMP:20260424T152504
CREATED:20170103T081235Z
LAST-MODIFIED:20170103T081235Z
UID:482-1494028800-1494115199@www.gorystolowe.info
SUMMARY:Dzień Strażaka – Dzień otwarty w OSP
DESCRIPTION:
URL:https://www.gorystolowe.info/kalendarz/dzien-strazaka-dzien-otwarty-w-osp/
LOCATION:Świetlica OSP\, Ścinawka Dolna\, Dolnośląskie\, 57-410\, Polska
CATEGORIES:Impreza Sołecka
END:VEVENT
BEGIN:VEVENT
DTSTART;VALUE=DATE:20170504
DTEND;VALUE=DATE:20170505
DTSTAMP:20260424T152504
CREATED:20161230T101946Z
LAST-MODIFIED:20170102T073549Z
UID:297-1493856000-1493942399@www.gorystolowe.info
SUMMARY:DZIEŃ STRAŻAKA
DESCRIPTION:
URL:https://www.gorystolowe.info/kalendarz/dzien-strazaka-2/
LOCATION:Żłobek w Ścinawce Średniej\, ul. Sikorskiego 34\, Ścinawka Średnia\, Dolnośląskie\, 57-410\, Polska
CATEGORIES:Impreza Szkolna
END:VEVENT
BEGIN:VEVENT
DTSTART;VALUE=DATE:20170502
DTEND;VALUE=DATE:20170503
DTSTAMP:20260424T152504
CREATED:20161230T101806Z
LAST-MODIFIED:20170102T073558Z
UID:293-1493683200-1493769599@www.gorystolowe.info
SUMMARY:DZIEŃ FLAGI
DESCRIPTION:
URL:https://www.gorystolowe.info/kalendarz/dzien-flagi-2/
LOCATION:Żłobek w Ścinawce Średniej\, ul. Sikorskiego 34\, Ścinawka Średnia\, Dolnośląskie\, 57-410\, Polska
CATEGORIES:Impreza Szkolna
END:VEVENT
BEGIN:VEVENT
DTSTART;VALUE=DATE:20170421
DTEND;VALUE=DATE:20170422
DTSTAMP:20260424T152504
CREATED:20161230T101619Z
LAST-MODIFIED:20170102T073624Z
UID:289-1492732800-1492819199@www.gorystolowe.info
SUMMARY:DZIEŃ ZIEMI
DESCRIPTION:
URL:https://www.gorystolowe.info/kalendarz/dzien-ziemi-2/
LOCATION:Żłobek w Ścinawce Średniej\, ul. Sikorskiego 34\, Ścinawka Średnia\, Dolnośląskie\, 57-410\, Polska
CATEGORIES:Impreza Szkolna
END:VEVENT
BEGIN:VEVENT
DTSTART;VALUE=DATE:20170406
DTEND;VALUE=DATE:20170407
DTSTAMP:20260424T152504
CREATED:20161230T101425Z
LAST-MODIFIED:20170102T073632Z
UID:285-1491436800-1491523199@www.gorystolowe.info
SUMMARY:DZIEŃ KSIĄŻKI DLA DZIECI
DESCRIPTION:
URL:https://www.gorystolowe.info/kalendarz/dzien-ksiazki-dla-dzieci-2/
LOCATION:Żłobek w Ścinawce Średniej\, ul. Sikorskiego 34\, Ścinawka Średnia\, Dolnośląskie\, 57-410\, Polska
CATEGORIES:Impreza Szkolna
END:VEVENT
BEGIN:VEVENT
DTSTART;VALUE=DATE:20170324
DTEND;VALUE=DATE:20170325
DTSTAMP:20260424T152504
CREATED:20161230T101208Z
LAST-MODIFIED:20170102T073723Z
UID:281-1490313600-1490399999@www.gorystolowe.info
SUMMARY:DZIEŃ TEATRU
DESCRIPTION:
URL:https://www.gorystolowe.info/kalendarz/dzien-teatru-2/
LOCATION:Żłobek w Ścinawce Średniej\, ul. Sikorskiego 34\, Ścinawka Średnia\, Dolnośląskie\, 57-410\, Polska
CATEGORIES:Impreza Szkolna
END:VEVENT
BEGIN:VEVENT
DTSTART;VALUE=DATE:20170322
DTEND;VALUE=DATE:20170323
DTSTAMP:20260424T152504
CREATED:20161230T100957Z
LAST-MODIFIED:20170102T073730Z
UID:277-1490140800-1490227199@www.gorystolowe.info
SUMMARY:DZIEŃ WODY
DESCRIPTION:
URL:https://www.gorystolowe.info/kalendarz/dzien-wody-2/
LOCATION:Żłobek w Ścinawce Średniej\, ul. Sikorskiego 34\, Ścinawka Średnia\, Dolnośląskie\, 57-410\, Polska
CATEGORIES:Impreza Szkolna
END:VEVENT
BEGIN:VEVENT
DTSTART;TZID=Europe/Warsaw:20170321T100000
DTEND;TZID=Europe/Warsaw:20170321T110000
DTSTAMP:20260424T152504
CREATED:20161230T100724Z
LAST-MODIFIED:20170102T073738Z
UID:273-1490090400-1490094000@www.gorystolowe.info
SUMMARY:POCHÓD Z MARZANNĄ
DESCRIPTION:
URL:https://www.gorystolowe.info/kalendarz/pochod-z-marzanna-2/
LOCATION:Żłobek w Ścinawce Średniej\, ul. Sikorskiego 34\, Ścinawka Średnia\, Dolnośląskie\, 57-410\, Polska
CATEGORIES:Impreza Szkolna
END:VEVENT
END:VCALENDAR